Workbook

Sheet Call sheet
A1: CALL SHEET
A2: Front page. Type the general crew call once: the crew list uses it for every call left as it is.
A4: PRODUCTION | E4: GENERAL CREW CALL | G4: WEATHER FORECAST
A6: COMPANY | E6: SHOOTING CALL | F6: EST. WRAP | G6: HIGH / LOW | I6: RAIN | J6: WIND
A8: DAY | C8: OF (DAYS) | D8: DATE | F8: BREAKFAST | G8: SUNRISE | I8: SUNSET
A10: REVISION NO. | C10: REVISED (DATE, TIME) | D10: COLOUR | E10: LUNCH | G10: TIMES ARE LOCAL
G11: Sunrise and sunset for the set location on the shoot date.
A13: DIRECTOR | D13: PRODUCER | F13: 1ST ASSISTANT DIRECTOR | I13: LINE PRODUCER / PM
A15: SET LOCATION AND ADDRESS | E15: CREW PARKING AND BASE CAMP | H15: NEAREST HOSPITAL (EMERGENCY)
A17: SAFETY AND SPECIAL INSTRUCTIONS
A20: SCENES
A21: SC. | B21: I/E | C21: SET / SYNOPSIS | F21: D/N | G21: PAGES (8THS) | H21: PAGES | I21: CAST | J21: LOCATION
H22: =IF(G22="","",IF(INT(G22/8)>0,INT(G22/8)&IF(MOD(G22,8)>0," "&MOD(G22,8)&"/8",""),MOD(G22,8)&"/8"))
H23: =IF(G23="","",IF(INT(G23/8)>0,INT(G23/8)&IF(MOD(G23,8)>0," "&MOD(G23,8)&"/8",""),MOD(G23,8)&"/8"))
H24: =IF(G24="","",IF(INT(G24/8)>0,INT(G24/8)&IF(MOD(G24,8)>0," "&MOD(G24,8)&"/8",""),MOD(G24,8)&"/8"))
H25: =IF(G25="","",IF(INT(G25/8)>0,INT(G25/8)&IF(MOD(G25,8)>0," "&MOD(G25,8)&"/8",""),MOD(G25,8)&"/8"))
H26: =IF(G26="","",IF(INT(G26/8)>0,INT(G26/8)&IF(MOD(G26,8)>0," "&MOD(G26,8)&"/8",""),MOD(G26,8)&"/8"))
H27: =IF(G27="","",IF(INT(G27/8)>0,INT(G27/8)&IF(MOD(G27,8)>0," "&MOD(G27,8)&"/8",""),MOD(G27,8)&"/8"))
H28: =IF(G28="","",IF(INT(G28/8)>0,INT(G28/8)&IF(MOD(G28,8)>0," "&MOD(G28,8)&"/8",""),MOD(G28,8)&"/8"))
C29: Total pages | G29: =IF(COUNT(G22:G28)=0,"",SUM(G22:G28)) | H29: =IF(G29="","",IF(INT(G29/8)>0,INT(G29/8)&IF(MOD(G29,8)>0," "&MOD(G29,8)&"/8",""),MOD(G29,8)&"/8"))
A31: CAST
A32: # | B32: CAST | D32: CHARACTER | E32: STATUS | F32: PICKUP | G32: MAKEUP / WARDROBE | H32: ON SET | I32: REMARKS
A43: Status: SW start work, W work, WF work finish, SWF start, work, finish, H hold, T travel, R rehearsal, F fitting. | I43: ="Cast called: "&COUNTA(B33:B42)
A45: BACKGROUND AND STAND-INS
A46: QTY | B46: DESCRIPTION | E46: CALL | F46: ON SET | G46: REMARKS
A52: ="Background and stand-ins: "&SUM(A47:A51)
A54: DEPARTMENT NOTES
A55: PROPS | F55: WARDROBE
A57: MAKEUP AND HAIR | F57: CAMERA
A59: GRIP / ELECTRIC | F59: SOUND
A61: ART / SET DRESSING | F61: VEHICLES
A63: SFX / STUNTS | F63: LOCATIONS
A66: ADVANCE DAY | C66: DATE
A68: ADVANCE SCHEDULE
A69: SC. | B69: I/E | C69: SET / SYNOPSIS | F69: D/N | G69: PAGES (8THS) | H69: PAGES | I69: CAST | J69: LOCATION
H70: =IF(G70="","",IF(INT(G70/8)>0,INT(G70/8)&IF(MOD(G70,8)>0," "&MOD(G70,8)&"/8",""),MOD(G70,8)&"/8"))
H71: =IF(G71="","",IF(INT(G71/8)>0,INT(G71/8)&IF(MOD(G71,8)>0," "&MOD(G71,8)&"/8",""),MOD(G71,8)&"/8"))
H72: =IF(G72="","",IF(INT(G72/8)>0,INT(G72/8)&IF(MOD(G72,8)>0," "&MOD(G72,8)&"/8",""),MOD(G72,8)&"/8"))
H73: =IF(G73="","",IF(INT(G73/8)>0,INT(G73/8)&IF(MOD(G73,8)>0," "&MOD(G73,8)&"/8",""),MOD(G73,8)&"/8"))
H74: =IF(G74="","",IF(INT(G74/8)>0,INT(G74/8)&IF(MOD(G74,8)>0," "&MOD(G74,8)&"/8",""),MOD(G74,8)&"/8"))
H75: =IF(G75="","",IF(INT(G75/8)>0,INT(G75/8)&IF(MOD(G75,8)>0," "&MOD(G75,8)&"/8",""),MOD(G75,8)&"/8"))
C76: Total pages | G76: =IF(COUNT(G70:G75)=0,"",SUM(G70:G75)) | H76: =IF(G76="","",IF(INT(G76/8)>0,INT(G76/8)&IF(MOD(G76,8)>0," "&MOD(G76,8)&"/8",""),MOD(G76,8)&"/8"))
A78: Free from Cinewright™ · getcinewright.com

Sheet Crew list
A1: CREW LIST AND CALLS
A2: The back of the call sheet. Each call shows the general crew call until you type over it.
A4: PRODUCTION | B4: DAY __ OF __ | C4: DATE | D4: REVISION | E4: GENERAL CREW CALL (FROM THE FRONT)
A5: =IF('Call sheet'!A5="","",'Call sheet'!A5) | B5: =IF('Call sheet'!A9="","",'Call sheet'!A9&" of "&'Call sheet'!C9) | C5: =IF('Call sheet'!D9="","",'Call sheet'!D9) | D5: =IF('Call sheet'!A11="","",'Call sheet'!A11) | E5: =IF('Call sheet'!E5="","",'Call sheet'!E5)
A7: POSITION | B7: NAME | C7: PHONE | D7: CALL | E7: EMAIL / NOTES
A8: PRODUCTION
A9: Producer | D9: =IF($E$5="","",$E$5)
A10: Line producer | D10: =IF($E$5="","",$E$5)
A11: Production manager | D11: =IF($E$5="","",$E$5)
A12: Production coordinator | D12: =IF($E$5="","",$E$5)
A13: Production assistant | D13: =IF($E$5="","",$E$5)
A14: DIRECTING
A15: Director | D15: =IF($E$5="","",$E$5)
A16: 1st assistant director | D16: =IF($E$5="","",$E$5)
A17: 2nd assistant director | D17: =IF($E$5="","",$E$5)
A18: Script supervisor | D18: =IF($E$5="","",$E$5)
A19: CAMERA
A20: Director of photography | D20: =IF($E$5="","",$E$5)
A21: Camera operator | D21: =IF($E$5="","",$E$5)
A22: 1st assistant camera | D22: =IF($E$5="","",$E$5)
A23: 2nd assistant camera | D23: =IF($E$5="","",$E$5)
A24: DIT | D24: =IF($E$5="","",$E$5)
A25: Stills | D25: =IF($E$5="","",$E$5)
A26: GRIP AND ELECTRIC
A27: Gaffer | D27: =IF($E$5="","",$E$5)
A28: Best boy electric | D28: =IF($E$5="","",$E$5)
A29: Electrician | D29: =IF($E$5="","",$E$5)
A30: Key grip | D30: =IF($E$5="","",$E$5)
A31: Best boy grip | D31: =IF($E$5="","",$E$5)
A32: Dolly grip | D32: =IF($E$5="","",$E$5)
A33: SOUND
A34: Production sound mixer | D34: =IF($E$5="","",$E$5)
A35: Boom operator | D35: =IF($E$5="","",$E$5)
A36: ART
A37: Production designer | D37: =IF($E$5="","",$E$5)
A38: Art director | D38: =IF($E$5="","",$E$5)
A39: Set decorator | D39: =IF($E$5="","",$E$5)
A40: Property master | D40: =IF($E$5="","",$E$5)
A41: WARDROBE
A42: Costume designer | D42: =IF($E$5="","",$E$5)
A43: Wardrobe supervisor | D43: =IF($E$5="","",$E$5)
A44: MAKEUP AND HAIR
A45: Key makeup | D45: =IF($E$5="","",$E$5)
A46: Key hair | D46: =IF($E$5="","",$E$5)
A47: LOCATIONS
A48: Location manager | D48: =IF($E$5="","",$E$5)
A49: Location assistant | D49: =IF($E$5="","",$E$5)
A50: TRANSPORT
A51: Transport captain | D51: =IF($E$5="","",$E$5)
A52: Driver | D52: =IF($E$5="","",$E$5)
A53: CATERING
A54: Caterer | D54: =IF($E$5="","",$E$5)
A55: Craft service | D55: =IF($E$5="","",$E$5)
A56: SAFETY AND MEDICAL
A57: Set medic | D57: =IF($E$5="","",$E$5)
A58: Safety officer | D58: =IF($E$5="","",$E$5)
A59: OTHER
D60: =IF($E$5="","",$E$5)
D61: =IF($E$5="","",$E$5)
D62: =IF($E$5="","",$E$5)
A64: PRODUCTION OFFICE
A66: RADIO CHANNELS
A68: MAP AND DIRECTIONS
A71: Free from Cinewright™ · getcinewright.com
