Workbook

Sheet Stripboard
A1: STRIPBOARD
A2: One row per strip in shooting order. Type: Scene, Day break or Banner. Rows colour themselves from I/E and D/N.
A4: PRODUCTION | E4: BOARD / DRAFT | G4: SCRIPT DATED | J4: 1ST ASSISTANT DIRECTOR
A7: TYPE | B7: DAY | C7: SC. | D7: I/E | E7: D/N | F7: SET / SYNOPSIS | G7: PAGES (8THS) | H7: PAGES | I7: CAST IDS | J7: LOCATION | K7: EST. TIME | L7: NOTES
H8: =IF(A8="Day break",IF(B8="","",IF(FALSE,"",IF(INT((SUMIFS($G$8:$G$207,$A$8:$A$207,"Scene",$B$8:$B$207,B8))/8)>0,INT((SUMIFS($G$8:$G$207,$A$8:$A$207,"Scene",$B$8:$B$207,B8))/8)&IF(MOD((SUMIFS($G$8:$G$207,$A$8:$A$207,"Scene",$B$8:$B$207,B8)),8)>0," "&MOD((SUMIFS($G$8:$G$207,$A$8:$A$207,"Scene",$B$8:$B$207,B8)),8)&"/8",""),MOD((SUMIFS($G$8:$G$207,$A$8:$A$207,"Scene",$B$8:$B$207,B8)),8)&"/8"))),IF(G8="","",IF(INT(G8/8)>0,INT(G8/8)&IF(MOD(G8,8)>0," "&MOD(G8,8)&"/8",""),MOD(G8,8)&"/8")))
H9: =IF(A9="Day break",IF(B9="","",IF(FALSE,"",IF(INT((SUMIFS($G$8:$G$207,$A$8:$A$207,"Scene",$B$8:$B$207,B9))/8)>0,INT((SUMIFS($G$8:$G$207,$A$8:$A$207,"Scene",$B$8:$B$207,B9))/8)&IF(MOD((SUMIFS($G$8:$G$207,$A$8:$A$207,"Scene",$B$8:$B$207,B9)),8)>0," "&MOD((SUMIFS($G$8:$G$207,$A$8:$A$207,"Scene",$B$8:$B$207,B9)),8)&"/8",""),MOD((SUMIFS($G$8:$G$207,$A$8:$A$207,"Scene",$B$8:$B$207,B9)),8)&"/8"))),IF(G9="","",IF(INT(G9/8)>0,INT(G9/8)&IF(MOD(G9,8)>0," "&MOD(G9,8)&"/8",""),MOD(G9,8)&"/8")))
H10: =IF(A10="Day break",IF(B10="","",IF(FALSE,"",IF(INT((SUMIFS($G$8:$G$207,$A$8:$A$207,"Scene",$B$8:$B$207,B10))/8)>0,INT((SUMIFS($G$8:$G$207,$A$8:$A$207,"Scene",$B$8:$B$207,B10))/8)&IF(MOD((SUMIFS($G$8:$G$207,$A$8:$A$207,"Scene",$B$8:$B$207,B10)),8)>0," "&MOD((SUMIFS($G$8:$G$207,$A$8:$A$207,"Scene",$B$8:$B$207,B10)),8)&"/8",""),MOD((SUMIFS($G$8:$G$207,$A$8:$A$207,"Scene",$B$8:$B$207,B10)),8)&"/8"))),IF(G10="","",IF(INT(G10/8)>0,INT(G10/8)&IF(MOD(G10,8)>0," "&MOD(G10,8)&"/8",""),MOD(G10,8)&"/8")))
H11: =IF(A11="Day break",IF(B11="","",IF(FALSE,"",IF(INT((SUMIFS($G$8:$G$207,$A$8:$A$207,"Scene",$B$8:$B$207,B11))/8)>0,INT((SUMIFS($G$8:$G$207,$A$8:$A$207,"Scene",$B$8:$B$207,B11))/8)&IF(MOD((SUMIFS($G$8:$G$207,$A$8:$A$207,"Scene",$B$8:$B$207,B11)),8)>0," "&MOD((SUMIFS($G$8:$G$207,$A$8:$A$207,"Scene",$B$8:$B$207,B11)),8)&"/8",""),MOD((SUMIFS($G$8:$G$207,$A$8:$A$207,"Scene",$B$8:$B$207,B11)),8)&"/8"))),IF(G11="","",IF(INT(G11/8)>0,INT(G11/8)&IF(MOD(G11,8)>0," "&MOD(G11,8)&"/8",""),MOD(G11,8)&"/8")))
H12: =IF(A12="Day break",IF(B12="","",IF(FALSE,"",IF(INT((SUMIFS($G$8:$G$207,$A$8:$A$207,"Scene",$B$8:$B$207,B12))/8)>0,INT((SUMIFS($G$8:$G$207,$A$8:$A$207,"Scene",$B$8:$B$207,B12))/8)&IF(MOD((SUMIFS($G$8:$G$207,$A$8:$A$207,"Scene",$B$8:$B$207,B12)),8)>0," "&MOD((SUMIFS($G$8:$G$207,$A$8:$A$207,"Scene",$B$8:$B$207,B12)),8)&"/8",""),MOD((SUMIFS($G$8:$G$207,$A$8:$A$207,"Scene",$B$8:$B$207,B12)),8)&"/8"))),IF(G12="","",IF(INT(G12/8)>0,INT(G12/8)&IF(MOD(G12,8)>0," "&MOD(G12,8)&"/8",""),MOD(G12,8)&"/8")))
H13: =IF(A13="Day break",IF(B13="","",IF(FALSE,"",IF(INT((SUMIFS($G$8:$G$207,$A$8:$A$207,"Scene",$B$8:$B$207,B13))/8)>0,INT((SUMIFS($G$8:$G$207,$A$8:$A$207,"Scene",$B$8:$B$207,B13))/8)&IF(MOD((SUMIFS($G$8:$G$207,$A$8:$A$207,"Scene",$B$8:$B$207,B13)),8)>0," "&MOD((SUMIFS($G$8:$G$207,$A$8:$A$207,"Scene",$B$8:$B$207,B13)),8)&"/8",""),MOD((SUMIFS($G$8:$G$207,$A$8:$A$207,"Scene",$B$8:$B$207,B13)),8)&"/8"))),IF(G13="","",IF(INT(G13/8)>0,INT(G13/8)&IF(MOD(G13,8)>0," "&MOD(G13,8)&"/8",""),MOD(G13,8)&"/8")))
H14: =IF(A14="Day break",IF(B14="","",IF(FALSE,"",IF(INT((SUMIFS($G$8:$G$207,$A$8:$A$207,"Scene",$B$8:$B$207,B14))/8)>0,INT((SUMIFS($G$8:$G$207,$A$8:$A$207,"Scene",$B$8:$B$207,B14))/8)&IF(MOD((SUMIFS($G$8:$G$207,$A$8:$A$207,"Scene",$B$8:$B$207,B14)),8)>0," "&MOD((SUMIFS($G$8:$G$207,$A$8:$A$207,"Scene",$B$8:$B$207,B14)),8)&"/8",""),MOD((SUMIFS($G$8:$G$207,$A$8:$A$207,"Scene",$B$8:$B$207,B14)),8)&"/8"))),IF(G14="","",IF(INT(G14/8)>0,INT(G14/8)&IF(MOD(G14,8)>0," "&MOD(G14,8)&"/8",""),MOD(G14,8)&"/8")))
H15: =IF(A15="Day break",IF(B15="","",IF(FALSE,"",IF(INT((SUMIFS($G$8:$G$207,$A$8:$A$207,"Scene",$B$8:$B$207,B15))/8)>0,INT((SUMIFS($G$8:$G$207,$A$8:$A$207,"Scene",$B$8:$B$207,B15))/8)&IF(MOD((SUMIFS($G$8:$G$207,$A$8:$A$207,"Scene",$B$8:$B$207,B15)),8)>0," "&MOD((SUMIFS($G$8:$G$207,$A$8:$A$207,"Scene",$B$8:$B$207,B15)),8)&"/8",""),MOD((SUMIFS($G$8:$G$207,$A$8:$A$207,"Scene",$B$8:$B$207,B15)),8)&"/8"))),IF(G15="","",IF(INT(G15/8)>0,INT(G15/8)&IF(MOD(G15,8)>0," "&MOD(G15,8)&"/8",""),MOD(G15,8)&"/8")))
H16: =IF(A16="Day break",IF(B16="","",IF(FALSE,"",IF(INT((SUMIFS($G$8:$G$207,$A$8:$A$207,"Scene",$B$8:$B$207,B16))/8)>0,INT((SUMIFS($G$8:$G$207,$A$8:$A$207,"Scene",$B$8:$B$207,B16))/8)&IF(MOD((SUMIFS($G$8:$G$207,$A$8:$A$207,"Scene",$B$8:$B$207,B16)),8)>0," "&MOD((SUMIFS($G$8:$G$207,$A$8:$A$207,"Scene",$B$8:$B$207,B16)),8)&"/8",""),MOD((SUMIFS($G$8:$G$207,$A$8:$A$207,"Scene",$B$8:$B$207,B16)),8)&"/8"))),IF(G16="","",IF(INT(G16/8)>0,INT(G16/8)&IF(MOD(G16,8)>0," "&MOD(G16,8)&"/8",""),MOD(G16,8)&"/8")))
H17: =IF(A17="Day break",IF(B17="","",IF(FALSE,"",IF(INT((SUMIFS($G$8:$G$207,$A$8:$A$207,"Scene",$B$8:$B$207,B17))/8)>0,INT((SUMIFS($G$8:$G$207,$A$8:$A$207,"Scene",$B$8:$B$207,B17))/8)&IF(MOD((SUMIFS($G$8:$G$207,$A$8:$A$207,"Scene",$B$8:$B$207,B17)),8)>0," "&MOD((SUMIFS($G$8:$G$207,$A$8:$A$207,"Scene",$B$8:$B$207,B17)),8)&"/8",""),MOD((SUMIFS($G$8:$G$207,$A$8:$A$207,"Scene",$B$8:$B$207,B17)),8)&"/8"))),IF(G17="","",IF(INT(G17/8)>0,INT(G17/8)&IF(MOD(G17,8)>0," "&MOD(G17,8)&"/8",""),MOD(G17,8)&"/8")))
H18: =IF(A18="Day break",IF(B18="","",IF(FALSE,"",IF(INT((SUMIFS($G$8:$G$207,$A$8:$A$207,"Scene",$B$8:$B$207,B18))/8)>0,INT((SUMIFS($G$8:$G$207,$A$8:$A$207,"Scene",$B$8:$B$207,B18))/8)&IF(MOD((SUMIFS($G$8:$G$207,$A$8:$A$207,"Scene",$B$8:$B$207,B18)),8)>0," "&MOD((SUMIFS($G$8:$G$207,$A$8:$A$207,"Scene",$B$8:$B$207,B18)),8)&"/8",""),MOD((SUMIFS($G$8:$G$207,$A$8:$A$207,"Scene",$B$8:$B$207,B18)),8)&"/8"))),IF(G18="","",IF(INT(G18/8)>0,INT(G18/8)&IF(MOD(G18,8)>0," "&MOD(G18,8)&"/8",""),MOD(G18,8)&"/8")))
H19: =IF(A19="Day break",IF(B19="","",IF(FALSE,"",IF(INT((SUMIFS($G$8:$G$207,$A$8:$A$207,"Scene",$B$8:$B$207,B19))/8)>0,INT((SUMIFS($G$8:$G$207,$A$8:$A$207,"Scene",$B$8:$B$207,B19))/8)&IF(MOD((SUMIFS($G$8:$G$207,$A$8:$A$207,"Scene",$B$8:$B$207,B19)),8)>0," "&MOD((SUMIFS($G$8:$G$207,$A$8:$A$207,"Scene",$B$8:$B$207,B19)),8)&"/8",""),MOD((SUMIFS($G$8:$G$207,$A$8:$A$207,"Scene",$B$8:$B$207,B19)),8)&"/8"))),IF(G19="","",IF(INT(G19/8)>0,INT(G19/8)&IF(MOD(G19,8)>0," "&MOD(G19,8)&"/8",""),MOD(G19,8)&"/8")))
... H207: =IF(A207="Day break",IF(B207="","",IF(FALSE,"",IF(INT((SUMIFS($G$8:$G$207,$A$8:$A$207,"Scene",$B$8:$B$207,B207))/8)>0,INT((SUMIFS($G$8:$G$207,$A$8:$A$207,"Scene",$B$8:$B$207,B207))/8)&IF(MOD((SUMIFS($G$8:$G$207,$A$8:$A$207,"Scene",$B$8:$B$207,B207)),8)>0," "&MOD((SUMIFS($G$8:$G$207,$A$8:$A$207,"Scene",$B$8:$B$207,B207)),8)&"/8",""),MOD((SUMIFS($G$8:$G$207,$A$8:$A$207,"Scene",$B$8:$B$207,B207)),8)&"/8"))),IF(G207="","",IF(INT(G207/8)>0,INT(G207/8)&IF(MOD(G207,8)>0," "&MOD(G207,8)&"/8",""),MOD(G207,8)&"/8")))
A209: Day break rows: put the day number in Day; Pages then shows that day's total in eighths, and you can write the date in Set.
A210: Pages are whole eighths: 1 4/8 is 12. Est. time as h:mm. INT day stays white; INT/EXT takes the EXT colour.
A212: Free from Cinewright™ · getcinewright.com

Sheet Days
A1: DAYS
A2: Each shoot day's scenes and pages, worked out from the Stripboard tab.
A4: DAY | B4: DATE | C4: SCENES | D4: PAGES (8THS) | E4: PAGES | F4: EST. TIME
A5: 1 | C5: =COUNTIFS(Stripboard!$A$8:$A$207,"Scene",Stripboard!$B$8:$B$207,A5) | D5: =SUMIFS(Stripboard!$G$8:$G$207,Stripboard!$A$8:$A$207,"Scene",Stripboard!$B$8:$B$207,A5) | E5: =IF(D5="","",IF(INT(D5/8)>0,INT(D5/8)&IF(MOD(D5,8)>0," "&MOD(D5,8)&"/8",""),MOD(D5,8)&"/8")) | F5: =SUMIFS(Stripboard!$K$8:$K$207,Stripboard!$A$8:$A$207,"Scene",Stripboard!$B$8:$B$207,A5)
A6: 2 | C6: =COUNTIFS(Stripboard!$A$8:$A$207,"Scene",Stripboard!$B$8:$B$207,A6) | D6: =SUMIFS(Stripboard!$G$8:$G$207,Stripboard!$A$8:$A$207,"Scene",Stripboard!$B$8:$B$207,A6) | E6: =IF(D6="","",IF(INT(D6/8)>0,INT(D6/8)&IF(MOD(D6,8)>0," "&MOD(D6,8)&"/8",""),MOD(D6,8)&"/8")) | F6: =SUMIFS(Stripboard!$K$8:$K$207,Stripboard!$A$8:$A$207,"Scene",Stripboard!$B$8:$B$207,A6)
A7: 3 | C7: =COUNTIFS(Stripboard!$A$8:$A$207,"Scene",Stripboard!$B$8:$B$207,A7) | D7: =SUMIFS(Stripboard!$G$8:$G$207,Stripboard!$A$8:$A$207,"Scene",Stripboard!$B$8:$B$207,A7) | E7: =IF(D7="","",IF(INT(D7/8)>0,INT(D7/8)&IF(MOD(D7,8)>0," "&MOD(D7,8)&"/8",""),MOD(D7,8)&"/8")) | F7: =SUMIFS(Stripboard!$K$8:$K$207,Stripboard!$A$8:$A$207,"Scene",Stripboard!$B$8:$B$207,A7)
A8: 4 | C8: =COUNTIFS(Stripboard!$A$8:$A$207,"Scene",Stripboard!$B$8:$B$207,A8) | D8: =SUMIFS(Stripboard!$G$8:$G$207,Stripboard!$A$8:$A$207,"Scene",Stripboard!$B$8:$B$207,A8) | E8: =IF(D8="","",IF(INT(D8/8)>0,INT(D8/8)&IF(MOD(D8,8)>0," "&MOD(D8,8)&"/8",""),MOD(D8,8)&"/8")) | F8: =SUMIFS(Stripboard!$K$8:$K$207,Stripboard!$A$8:$A$207,"Scene",Stripboard!$B$8:$B$207,A8)
A9: 5 | C9: =COUNTIFS(Stripboard!$A$8:$A$207,"Scene",Stripboard!$B$8:$B$207,A9) | D9: =SUMIFS(Stripboard!$G$8:$G$207,Stripboard!$A$8:$A$207,"Scene",Stripboard!$B$8:$B$207,A9) | E9: =IF(D9="","",IF(INT(D9/8)>0,INT(D9/8)&IF(MOD(D9,8)>0," "&MOD(D9,8)&"/8",""),MOD(D9,8)&"/8")) | F9: =SUMIFS(Stripboard!$K$8:$K$207,Stripboard!$A$8:$A$207,"Scene",Stripboard!$B$8:$B$207,A9)
A10: 6 | C10: =COUNTIFS(Stripboard!$A$8:$A$207,"Scene",Stripboard!$B$8:$B$207,A10) | D10: =SUMIFS(Stripboard!$G$8:$G$207,Stripboard!$A$8:$A$207,"Scene",Stripboard!$B$8:$B$207,A10) | E10: =IF(D10="","",IF(INT(D10/8)>0,INT(D10/8)&IF(MOD(D10,8)>0," "&MOD(D10,8)&"/8",""),MOD(D10,8)&"/8")) | F10: =SUMIFS(Stripboard!$K$8:$K$207,Stripboard!$A$8:$A$207,"Scene",Stripboard!$B$8:$B$207,A10)
A11: 7 | C11: =COUNTIFS(Stripboard!$A$8:$A$207,"Scene",Stripboard!$B$8:$B$207,A11) | D11: =SUMIFS(Stripboard!$G$8:$G$207,Stripboard!$A$8:$A$207,"Scene",Stripboard!$B$8:$B$207,A11) | E11: =IF(D11="","",IF(INT(D11/8)>0,INT(D11/8)&IF(MOD(D11,8)>0," "&MOD(D11,8)&"/8",""),MOD(D11,8)&"/8")) | F11: =SUMIFS(Stripboard!$K$8:$K$207,Stripboard!$A$8:$A$207,"Scene",Stripboard!$B$8:$B$207,A11)
A12: 8 | C12: =COUNTIFS(Stripboard!$A$8:$A$207,"Scene",Stripboard!$B$8:$B$207,A12) | D12: =SUMIFS(Stripboard!$G$8:$G$207,Stripboard!$A$8:$A$207,"Scene",Stripboard!$B$8:$B$207,A12) | E12: =IF(D12="","",IF(INT(D12/8)>0,INT(D12/8)&IF(MOD(D12,8)>0," "&MOD(D12,8)&"/8",""),MOD(D12,8)&"/8")) | F12: =SUMIFS(Stripboard!$K$8:$K$207,Stripboard!$A$8:$A$207,"Scene",Stripboard!$B$8:$B$207,A12)
A13: 9 | C13: =COUNTIFS(Stripboard!$A$8:$A$207,"Scene",Stripboard!$B$8:$B$207,A13) | D13: =SUMIFS(Stripboard!$G$8:$G$207,Stripboard!$A$8:$A$207,"Scene",Stripboard!$B$8:$B$207,A13) | E13: =IF(D13="","",IF(INT(D13/8)>0,INT(D13/8)&IF(MOD(D13,8)>0," "&MOD(D13,8)&"/8",""),MOD(D13,8)&"/8")) | F13: =SUMIFS(Stripboard!$K$8:$K$207,Stripboard!$A$8:$A$207,"Scene",Stripboard!$B$8:$B$207,A13)
A14: 10 | C14: =COUNTIFS(Stripboard!$A$8:$A$207,"Scene",Stripboard!$B$8:$B$207,A14) | D14: =SUMIFS(Stripboard!$G$8:$G$207,Stripboard!$A$8:$A$207,"Scene",Stripboard!$B$8:$B$207,A14) | E14: =IF(D14="","",IF(INT(D14/8)>0,INT(D14/8)&IF(MOD(D14,8)>0," "&MOD(D14,8)&"/8",""),MOD(D14,8)&"/8")) | F14: =SUMIFS(Stripboard!$K$8:$K$207,Stripboard!$A$8:$A$207,"Scene",Stripboard!$B$8:$B$207,A14)
A15: 11 | C15: =COUNTIFS(Stripboard!$A$8:$A$207,"Scene",Stripboard!$B$8:$B$207,A15) | D15: =SUMIFS(Stripboard!$G$8:$G$207,Stripboard!$A$8:$A$207,"Scene",Stripboard!$B$8:$B$207,A15) | E15: =IF(D15="","",IF(INT(D15/8)>0,INT(D15/8)&IF(MOD(D15,8)>0," "&MOD(D15,8)&"/8",""),MOD(D15,8)&"/8")) | F15: =SUMIFS(Stripboard!$K$8:$K$207,Stripboard!$A$8:$A$207,"Scene",Stripboard!$B$8:$B$207,A15)
A16: 12 | C16: =COUNTIFS(Stripboard!$A$8:$A$207,"Scene",Stripboard!$B$8:$B$207,A16) | D16: =SUMIFS(Stripboard!$G$8:$G$207,Stripboard!$A$8:$A$207,"Scene",Stripboard!$B$8:$B$207,A16) | E16: =IF(D16="","",IF(INT(D16/8)>0,INT(D16/8)&IF(MOD(D16,8)>0," "&MOD(D16,8)&"/8",""),MOD(D16,8)&"/8")) | F16: =SUMIFS(Stripboard!$K$8:$K$207,Stripboard!$A$8:$A$207,"Scene",Stripboard!$B$8:$B$207,A16)
... A44: 40 | C44: =COUNTIFS(Stripboard!$A$8:$A$207,"Scene",Stripboard!$B$8:$B$207,A44) | D44: =SUMIFS(Stripboard!$G$8:$G$207,Stripboard!$A$8:$A$207,"Scene",Stripboard!$B$8:$B$207,A44) | E44: =IF(D44="","",IF(INT(D44/8)>0,INT(D44/8)&IF(MOD(D44,8)>0," "&MOD(D44,8)&"/8",""),MOD(D44,8)&"/8")) | F44: =SUMIFS(Stripboard!$K$8:$K$207,Stripboard!$A$8:$A$207,"Scene",Stripboard!$B$8:$B$207,A44)
A45: Total | C45: =SUM(C5:C44) | D45: =SUM(D5:D44) | E45: =IF(D45="","",IF(INT(D45/8)>0,INT(D45/8)&IF(MOD(D45,8)>0," "&MOD(D45,8)&"/8",""),MOD(D45,8)&"/8")) | F45: =SUM(F5:F44)
A47: Free from Cinewright™ · getcinewright.com

Sheet Cast
A1: CAST LIST
A2: The ID numbers used in the Cast IDs column and on the call sheet.
A4: ID | B4: CHARACTER | C4: CAST | D4: NOTES
A5: 1
A6: 2
A7: 3
A8: 4
A9: 5
A10: 6
A11: 7
A12: 8
A13: 9
A14: 10
A15: 11
A16: 12
... A44: 40
A46: Free from Cinewright™ · getcinewright.com

Sheet Colour code
A1: STRIPBOARD COLOUR CODE
A2: The standard colours. The Stripboard tab applies them for you.
A4: CODE | B4: STRIP | C4: WHEN
A5: ID | B5: INT day | C5: INT day: DAY, MORNING, DAWN
A6: ED | B6: EXT day | C6: EXT or INT/EXT day
A7: IN | B7: INT night | C7: INT night: NIGHT, EVENING, DUSK
A8: EN | B8: EXT night | C8: EXT or INT/EXT night
A9: DD | B9: Dawn and dusk (optional) | C9: Optional: dawn and dusk in their own colour
A10: BN | B10: Banner | C10: Notes, company moves, special units
A11: DB | B11: Day break | C11: End of each shoot day
A14: Free from Cinewright™ · getcinewright.com
